BEGIN:VCALENDAR
VERSION:2.0
PRODID:-//wp-events-plugin.com//7.2.3.1//EN
TZID:Europe/Amsterdam
X-WR-TIMEZONE:Europe/Amsterdam
BEGIN:VEVENT
UID:247@debazuindemeern.nl
DTSTART;TZID=Europe/Amsterdam:20260511T195000
DTEND;TZID=Europe/Amsterdam:20260511T203000
DTSTAMP:20260220T172848Z
URL:https://debazuindemeern.nl/evenementen/alv-2/
SUMMARY:ALV
DESCRIPTION:Algemene Ledenvergadering \n\nIn verband hiermee zijn er verkor
 te repetitietijden voor LO en HO: \n·     Opstap orkest normale repetitie
 tijd 18.30 - 19.00u.\n·     Leerlingenorkest repetitie aangepast van 19.0
 0 - 19.45u.  \n·     Algemene Leden Vergadering 19.50 - 20.30\n·     Kof
 fiepauze 20.30 - 20.45 \n·     Harmonieorkest repetitie aangepast van 20.
 45 - 22.00 (zonder pauze)
CATEGORIES:Alle leden
LOCATION:De Meander\, Centrumlaan 1\, De Meern\, Utrecht\, 3454 CX \, Neder
 land
X-APPLE-STRUCTURED-LOCATION;VALUE=URI;X-ADDRESS=Centrumlaan 1\, De Meern\, 
 Utrecht\, 3454 CX \, Nederland;X-APPLE-RADIUS=100;X-TITLE=De Meander:geo:0
 ,0
END:VEVENT
BEGIN:VTIMEZONE
TZID:Europe/Amsterdam
X-LIC-LOCATION:Europe/Amsterdam
BEGIN:DAYLIGHT
DTSTART:20260329T030000
TZOFFSETFROM:+0100
TZOFFSETTO:+0200
TZNAME:CEST
END:DAYLIGHT
END:VTIMEZONE
END:VCALENDAR