BEGIN:VCALENDAR
VERSION:2.0
PRODID:-//wp-events-plugin.com//7.2.3.1//EN
TZID:Europe/Amsterdam
X-WR-TIMEZONE:Europe/Amsterdam
BEGIN:VEVENT
UID:221@debazuindemeern.nl
DTSTART;TZID=Europe/Amsterdam:20261213T150000
DTEND;TZID=Europe/Amsterdam:20261213T170000
DTSTAMP:20260421T100740Z
URL:https://debazuindemeern.nl/evenementen/christmas-sing-along-oo-en-lo/
SUMMARY:Christmas Sing-along OO\, LO en HO
DESCRIPTION:Klik hier voor alle info!\n\n&nbsp\;\n\n
CATEGORIES:Alle leden,Publiek welkom
LOCATION:Leidsche Rijn Centrum\, Brusselplein\, Leidsche Rijn \, UTRECHT\, 
 3541 BG\, Nederland
X-APPLE-STRUCTURED-LOCATION;VALUE=URI;X-ADDRESS=Brusselplein\, Leidsche Rij
 n \, UTRECHT\, 3541 BG\, Nederland;X-APPLE-RADIUS=100;X-TITLE=Leidsche Rij
 n Centrum:geo:0,0
END:VEVENT
BEGIN:VTIMEZONE
TZID:Europe/Amsterdam
X-LIC-LOCATION:Europe/Amsterdam
BEGIN:STANDARD
DTSTART:20261025T020000
TZOFFSETFROM:+0200
TZOFFSETTO:+0100
TZNAME:CET
END:STANDARD
END:VTIMEZONE
END:VCALENDAR