BEGIN:VCALENDAR
VERSION:2.0
PRODID:-//wp-events-plugin.com//7.2.3.1//EN
TZID:Europe/Amsterdam
X-WR-TIMEZONE:Europe/Amsterdam
BEGIN:VEVENT
UID:228@debazuindemeern.nl
DTSTART;TZID=Europe/Amsterdam:20260504T184000
DTEND;TZID=Europe/Amsterdam:20260504T210000
DTSTAMP:20260313T085135Z
URL:https://debazuindemeern.nl/evenementen/dodenherdenking-ho/
SUMMARY:Dodenherdenking HO
DESCRIPTION:Mariakerk: 18.40 - 19.30 uur
CATEGORIES:Harmonieorkest
LOCATION:Mariakerk\, Pastoor Boelenslaan 11\, De Meern\, Utrecht\, 3454 AB\
 , Nederland
X-APPLE-STRUCTURED-LOCATION;VALUE=URI;X-ADDRESS=Pastoor Boelenslaan 11\, De
  Meern\, Utrecht\, 3454 AB\, Nederland;X-APPLE-RADIUS=100;X-TITLE=Mariaker
 k:geo:0,0
END:VEVENT
BEGIN:VTIMEZONE
TZID:Europe/Amsterdam
X-LIC-LOCATION:Europe/Amsterdam
BEGIN:DAYLIGHT
DTSTART:20260329T030000
TZOFFSETFROM:+0100
TZOFFSETTO:+0200
TZNAME:CEST
END:DAYLIGHT
END:VTIMEZONE
END:VCALENDAR