BEGIN:VCALENDAR
VERSION:2.0
PRODID:-//wp-events-plugin.com//7.2.3.1//EN
TZID:Europe/Amsterdam
X-WR-TIMEZONE:Europe/Amsterdam
BEGIN:VEVENT
UID:245@debazuindemeern.nl
DTSTART;TZID=Europe/Amsterdam:20260522T000000
DTEND;TZID=Europe/Amsterdam:20260522T000000
DTSTAMP:20260421T100122Z
URL:https://debazuindemeern.nl/evenementen/feestavond/
SUMMARY:Feestavond
DESCRIPTION:Klik hier voor alle info!
CATEGORIES:Alle leden
LOCATION:Muziekcafé Trapop\, Hof van Monaco 8\, Utrecht\, 4541 DT\, Nederl
 and
X-APPLE-STRUCTURED-LOCATION;VALUE=URI;X-ADDRESS=Hof van Monaco 8\, Utrecht\
 , 4541 DT\, Nederland;X-APPLE-RADIUS=100;X-TITLE=Muziekcafé Trapop:geo:0,
 0
END:VEVENT
BEGIN:VTIMEZONE
TZID:Europe/Amsterdam
X-LIC-LOCATION:Europe/Amsterdam
BEGIN:DAYLIGHT
DTSTART:20260329T030000
TZOFFSETFROM:+0100
TZOFFSETTO:+0200
TZNAME:CEST
END:DAYLIGHT
END:VTIMEZONE
END:VCALENDAR