BEGIN:VCALENDAR
VERSION:2.0
PRODID:-//wp-events-plugin.com//7.2.3.1//EN
TZID:Europe/Amsterdam
X-WR-TIMEZONE:Europe/Amsterdam
BEGIN:VEVENT
UID:217@debazuindemeern.nl
DTSTART;TZID=Europe/Amsterdam:20260619T183000
DTEND;TZID=Europe/Amsterdam:20260619T200000
DTSTAMP:20251121T115829Z
URL:https://debazuindemeern.nl/evenementen/generale-repetitie-voorjaarscon
 cert-oo-en-lo/
SUMMARY:Generale repetitie Voorjaarsconcert OO en LO
DESCRIPTION:
CATEGORIES:Opstaporkest en Leerlingenorkest
LOCATION:De Meander\, Centrumlaan 1\, De Meern\, Utrecht\, 3454 CX \, Neder
 land
X-APPLE-STRUCTURED-LOCATION;VALUE=URI;X-ADDRESS=Centrumlaan 1\, De Meern\, 
 Utrecht\, 3454 CX \, Nederland;X-APPLE-RADIUS=100;X-TITLE=De Meander:geo:0
 ,0
END:VEVENT
BEGIN:VTIMEZONE
TZID:Europe/Amsterdam
X-LIC-LOCATION:Europe/Amsterdam
BEGIN:DAYLIGHT
DTSTART:20260329T030000
TZOFFSETFROM:+0100
TZOFFSETTO:+0200
TZNAME:CEST
END:DAYLIGHT
END:VTIMEZONE
END:VCALENDAR