BEGIN:VCALENDAR
VERSION:2.0
PRODID:-//wp-events-plugin.com//7.2.3.1//EN
TZID:Europe/Amsterdam
X-WR-TIMEZONE:Europe/Amsterdam
BEGIN:VEVENT
UID:234@debazuindemeern.nl
DTSTART;TZID=Europe/Amsterdam:20261017T000000
DTEND;TZID=Europe/Amsterdam:20261025T000000
DTSTAMP:20251211T183331Z
URL:https://debazuindemeern.nl/evenementen/herfstvakantie-oo-en-lo/
SUMMARY:Herfstvakantie OO en LO
DESCRIPTION:
CATEGORIES:Opstaporkest en Leerlingenorkest
END:VEVENT
BEGIN:VTIMEZONE
TZID:Europe/Amsterdam
X-LIC-LOCATION:Europe/Amsterdam
BEGIN:DAYLIGHT
DTSTART:20260329T030000
TZOFFSETFROM:+0100
TZOFFSETTO:+0200
TZNAME:CEST
END:DAYLIGHT
END:VTIMEZONE
END:VCALENDAR