BEGIN:VCALENDAR
VERSION:2.0
PRODID:-//wp-events-plugin.com//7.2.3.1//EN
TZID:Europe/Amsterdam
X-WR-TIMEZONE:Europe/Amsterdam
BEGIN:VEVENT
UID:236@debazuindemeern.nl
DTSTART;TZID=Europe/Amsterdam:20261107T000000
DTEND;TZID=Europe/Amsterdam:20261107T000000
DTSTAMP:20260421T100647Z
URL:https://debazuindemeern.nl/evenementen/jubileumconcert/
SUMMARY:Jubileumconcert
DESCRIPTION:Klik hier voor alle info!
CATEGORIES:Alle leden
END:VEVENT
BEGIN:VTIMEZONE
TZID:Europe/Amsterdam
X-LIC-LOCATION:Europe/Amsterdam
BEGIN:STANDARD
DTSTART:20261025T020000
TZOFFSETFROM:+0200
TZOFFSETTO:+0100
TZNAME:CET
END:STANDARD
END:VTIMEZONE
END:VCALENDAR