BEGIN:VCALENDAR
VERSION:2.0
PRODID:-//wp-events-plugin.com//7.2.3.1//EN
TZID:Europe/Amsterdam
X-WR-TIMEZONE:Europe/Amsterdam
BEGIN:VEVENT
UID:222@debazuindemeern.nl
DTSTART;TZID=Europe/Amsterdam:20261220T150000
DTEND;TZID=Europe/Amsterdam:20261220T170000
DTSTAMP:20251231T175527Z
URL:https://debazuindemeern.nl/evenementen/kerstconcert-bij-de-hoef-2/
SUMMARY:Kerstconcert bij De Hoef
DESCRIPTION:
CATEGORIES:Opstaporkest en Leerlingenorkest,Publiek welkom
LOCATION:De Hoef\, Hogeweide 6\, Utrecht\, 3541 BC \, Nederland
X-APPLE-STRUCTURED-LOCATION;VALUE=URI;X-ADDRESS=Hogeweide 6\, Utrecht\, 354
 1 BC \, Nederland;X-APPLE-RADIUS=100;X-TITLE=De Hoef:geo:0,0
END:VEVENT
BEGIN:VTIMEZONE
TZID:Europe/Amsterdam
X-LIC-LOCATION:Europe/Amsterdam
BEGIN:STANDARD
DTSTART:20261025T020000
TZOFFSETFROM:+0200
TZOFFSETTO:+0100
TZNAME:CET
END:STANDARD
END:VTIMEZONE
END:VCALENDAR