BEGIN:VCALENDAR
VERSION:2.0
PRODID:-//wp-events-plugin.com//7.2.3.1//EN
TZID:Europe/Amsterdam
X-WR-TIMEZONE:Europe/Amsterdam
BEGIN:VEVENT
UID:220@debazuindemeern.nl
DTSTART;TZID=Europe/Amsterdam:20261212T100000
DTEND;TZID=Europe/Amsterdam:20261212T120000
DTSTAMP:20251222T162324Z
URL:https://debazuindemeern.nl/evenementen/kerstconcert-bij-goes-oo-en-lo/
SUMMARY:Kerstconcert bij Goes\, OO en LO
DESCRIPTION:
CATEGORIES:Opstaporkest en Leerlingenorkest,Publiek welkom
LOCATION:Plattelandswinkel Goes\, Groenedijk 8\, De Meern\, 3454 PC \, Nede
 rland
X-APPLE-STRUCTURED-LOCATION;VALUE=URI;X-ADDRESS=Groenedijk 8\, De Meern\, 3
 454 PC \, Nederland;X-APPLE-RADIUS=100;X-TITLE=Plattelandswinkel Goes:geo:
 0,0
END:VEVENT
BEGIN:VTIMEZONE
TZID:Europe/Amsterdam
X-LIC-LOCATION:Europe/Amsterdam
BEGIN:STANDARD
DTSTART:20261025T020000
TZOFFSETFROM:+0200
TZOFFSETTO:+0100
TZNAME:CET
END:STANDARD
END:VTIMEZONE
END:VCALENDAR