BEGIN:VCALENDAR
VERSION:2.0
PRODID:-//wp-events-plugin.com//7.2.3.1//EN
TZID:Europe/Amsterdam
X-WR-TIMEZONE:Europe/Amsterdam
BEGIN:VEVENT
UID:208@debazuindemeern.nl
DTSTART;TZID=Europe/Amsterdam:20261218T000000
DTEND;TZID=Europe/Amsterdam:20261218T000000
DTSTAMP:20260421T100849Z
URL:https://debazuindemeern.nl/evenementen/kerstconcert-met-uriel-koor/
SUMMARY:Kerstconcert met Uriel koor 2026
DESCRIPTION:Klik hier voor alle info!
CATEGORIES:Alle leden
LOCATION:Mariakerk\, Pastoor Boelenslaan 11\, De Meern\, Utrecht\, 3454 AB\
 , Nederland
X-APPLE-STRUCTURED-LOCATION;VALUE=URI;X-ADDRESS=Pastoor Boelenslaan 11\, De
  Meern\, Utrecht\, 3454 AB\, Nederland;X-APPLE-RADIUS=100;X-TITLE=Mariaker
 k:geo:0,0
END:VEVENT
BEGIN:VTIMEZONE
TZID:Europe/Amsterdam
X-LIC-LOCATION:Europe/Amsterdam
BEGIN:STANDARD
DTSTART:20261025T020000
TZOFFSETFROM:+0200
TZOFFSETTO:+0100
TZNAME:CET
END:STANDARD
END:VTIMEZONE
END:VCALENDAR