BEGIN:VCALENDAR
VERSION:2.0
PRODID:-//wp-events-plugin.com//7.2.3.1//EN
TZID:Europe/Amsterdam
X-WR-TIMEZONE:Europe/Amsterdam
BEGIN:VEVENT
UID:219@debazuindemeern.nl
DTSTART;TZID=Europe/Amsterdam:20260906T090000
DTEND;TZID=Europe/Amsterdam:20260906T170000
DTSTAMP:20251121T115940Z
URL:https://debazuindemeern.nl/evenementen/leidsche-rijn-festival-5/
SUMMARY:Leidsche Rijn Festival
DESCRIPTION:
CATEGORIES:Opstaporkest en Leerlingenorkest,Publiek welkom
LOCATION:Castellum Hoge Woerd\, Hoge Woerdplein 1\, Utrecht\, Utrecht\, 345
 4 PB\, Nederland
X-APPLE-STRUCTURED-LOCATION;VALUE=URI;X-ADDRESS=Hoge Woerdplein 1\, Utrecht
 \, Utrecht\, 3454 PB\, Nederland;X-APPLE-RADIUS=100;X-TITLE=Castellum Hoge
  Woerd:geo:0,0
END:VEVENT
BEGIN:VTIMEZONE
TZID:Europe/Amsterdam
X-LIC-LOCATION:Europe/Amsterdam
BEGIN:DAYLIGHT
DTSTART:20260329T030000
TZOFFSETFROM:+0100
TZOFFSETTO:+0200
TZNAME:CEST
END:DAYLIGHT
END:VTIMEZONE
END:VCALENDAR