BEGIN:VCALENDAR
VERSION:2.0
PRODID:-//wp-events-plugin.com//7.2.3.1//EN
TZID:Europe/Amsterdam
X-WR-TIMEZONE:Europe/Amsterdam
BEGIN:VEVENT
UID:239@debazuindemeern.nl
DTSTART;TZID=Europe/Amsterdam:20261121T000000
DTEND;TZID=Europe/Amsterdam:20261121T000000
DTSTAMP:20251211T183727Z
URL:https://debazuindemeern.nl/evenementen/sint-intocht-fb-2/
SUMMARY:Sint intocht FB
DESCRIPTION:De Meern
CATEGORIES:Feestband
END:VEVENT
BEGIN:VTIMEZONE
TZID:Europe/Amsterdam
X-LIC-LOCATION:Europe/Amsterdam
BEGIN:STANDARD
DTSTART:20261025T020000
TZOFFSETFROM:+0200
TZOFFSETTO:+0100
TZNAME:CET
END:STANDARD
END:VTIMEZONE
END:VCALENDAR