BEGIN:VCALENDAR
VERSION:2.0
PRODID:-//wp-events-plugin.com//7.2.3.1//EN
TZID:Europe/Amsterdam
X-WR-TIMEZONE:Europe/Amsterdam
BEGIN:VEVENT
UID:237@debazuindemeern.nl
DTSTART;TZID=Europe/Amsterdam:20261109T000000
DTEND;TZID=Europe/Amsterdam:20261109T000000
DTSTAMP:20251211T183542Z
URL:https://debazuindemeern.nl/evenementen/speculaasactie-5/
SUMMARY:Speculaasactie
DESCRIPTION:
CATEGORIES:Alle leden
LOCATION:De Meander\, Centrumlaan 1\, De Meern\, Utrecht\, 3454 CX \, Neder
 land
X-APPLE-STRUCTURED-LOCATION;VALUE=URI;X-ADDRESS=Centrumlaan 1\, De Meern\, 
 Utrecht\, 3454 CX \, Nederland;X-APPLE-RADIUS=100;X-TITLE=De Meander:geo:0
 ,0
END:VEVENT
BEGIN:VTIMEZONE
TZID:Europe/Amsterdam
X-LIC-LOCATION:Europe/Amsterdam
BEGIN:STANDARD
DTSTART:20261025T020000
TZOFFSETFROM:+0200
TZOFFSETTO:+0100
TZNAME:CET
END:STANDARD
END:VTIMEZONE
END:VCALENDAR